BEGIN:VCALENDAR
VERSION:2.0
PRODID:-//Momix - ECPv6.15.20//NONSGML v1.0//EN
CALSCALE:GREGORIAN
METHOD:PUBLISH
X-WR-CALNAME:Momix
X-ORIGINAL-URL:https://www.momix.com
X-WR-CALDESC:Events for Momix
REFRESH-INTERVAL;VALUE=DURATION:PT1H
X-Robots-Tag:noindex
X-PUBLISHED-TTL:PT1H
BEGIN:VTIMEZONE
TZID:UTC
BEGIN:STANDARD
TZOFFSETFROM:+0000
TZOFFSETTO:+0000
TZNAME:UTC
DTSTART:20250101T000000
END:STANDARD
END:VTIMEZONE
BEGIN:VEVENT
DTSTART;TZID=UTC:20260606T140000
DTEND;TZID=UTC:20260606T193000
DTSTAMP:20260421T135347
CREATED:20260129T105248Z
LAST-MODIFIED:20260130T133246Z
UID:10000030-1780754400-1780774200@www.momix.com
SUMMARY:BOTANICA S2 - Dallas\, TX
DESCRIPTION:TITAS/DANCE UNBOUND\, in association with AT&T Performing Arts Center\, Presents BOTANICA\n\n\n\nMOMIX is always a wild ride—trippy\, magical\, and downright unforgettable. No wonder they’re a TITAS favorite! BOTANICA is a feast for the eyes and the perfect show for the whole family. Last time\, they wowed us with ALICE\, and now they’re back with BOTANICA\, a stunning journey through the rhythms of the seasons\, the ever-changing shapes of life on Earth. Simply put\, you don’t want to miss this one. It’s a Must See—no question about it! \n\n\n\n \n\n\n\nOne day\, Two Shows Only\, 2:30pm & 7:30pm
URL:https://www.momix.com/event/botanica-s2-dallas-tx/
LOCATION:AT&T PAC – Winspear Opera House\, 2403 Flora St\, Dallas\, Texas\, 75201\, United States
CATEGORIES:NORTH AMERICA,USA
END:VEVENT
END:VCALENDAR