BEGIN:VCALENDAR
VERSION:2.0
PRODID:-//Momix - ECPv6.15.20//NONSGML v1.0//EN
CALSCALE:GREGORIAN
METHOD:PUBLISH
X-WR-CALNAME:Momix
X-ORIGINAL-URL:https://www.momix.com
X-WR-CALDESC:Events for Momix
REFRESH-INTERVAL;VALUE=DURATION:PT1H
X-Robots-Tag:noindex
X-PUBLISHED-TTL:PT1H
BEGIN:VTIMEZONE
TZID:UTC
BEGIN:STANDARD
TZOFFSETFROM:+0000
TZOFFSETTO:+0000
TZNAME:UTC
DTSTART:20250101T000000
END:STANDARD
END:VTIMEZONE
BEGIN:VEVENT
DTSTART;TZID=UTC:20260522T203000
DTEND;TZID=UTC:20260524T203000
DTSTAMP:20260421T154520
CREATED:20260129T104746Z
LAST-MODIFIED:20260210T154547Z
UID:10000029-1779481800-1779654600@www.momix.com
SUMMARY:BOTANICA S2 - Trieste\, Italy
DESCRIPTION:Il pubblico del Politeama ha sempre amato i Momix\, di cui ha applaudito – a partire dal 1989 – molti show\, compreso un indimenticabile “The best of” con cui festeggiavano nel 2010 il loro 30° compleanno. Il loro fondatore\, il coreografo statunitense Moses Pendleton\, ha impresso alla compagnia la propria visionarietà\, la poetica del gioco\, la fiducia nelle immense possibilità del corpo umano che per questi danzatori è il principale punto di forza\, centro e motore di mirabolanti trasformazioni. Vere mutazioni in cui hanno un ruolo anche le luci sapienti e i geniali costumi che da sempre connotano le produzioni di questa compagnia valorizzando ed esplicitando ulteriormente il linguaggio dei corpi. \n\n\n\nIl tema dell’ecologia\, della cura per il pianeta in cui viviamo\, della fragilità e della bellezza delle sue creature è spesso al centro della poetica di Pendleton che trae dalla Natura le migliori ispirazioni. E riprende l’argomento anche nel nuovo spettacolo\, “Bothanica Season 2” che si evolve sulla scia di uno dei più celebrati capolavori dei Momix\, “Bothanica”.
URL:https://www.momix.com/event/botanica-s2-trieste-italy/
LOCATION:Teatro Rossetti\, Largo Giorgio Gaber\, 1\, Trieste\, 34126\, Italy
CATEGORIES:EUROPE,ITALY
END:VEVENT
END:VCALENDAR