BEGIN:VCALENDAR
VERSION:2.0
PRODID:-//Momix - ECPv6.15.20//NONSGML v1.0//EN
CALSCALE:GREGORIAN
METHOD:PUBLISH
X-WR-CALNAME:Momix
X-ORIGINAL-URL:https://www.momix.com
X-WR-CALDESC:Events for Momix
REFRESH-INTERVAL;VALUE=DURATION:PT1H
X-Robots-Tag:noindex
X-PUBLISHED-TTL:PT1H
BEGIN:VTIMEZONE
TZID:UTC
BEGIN:STANDARD
TZOFFSETFROM:+0000
TZOFFSETTO:+0000
TZNAME:UTC
DTSTART:20250101T000000
END:STANDARD
END:VTIMEZONE
BEGIN:VEVENT
DTSTART;TZID=UTC:20260516T210000
DTEND;TZID=UTC:20260519T210000
DTSTAMP:20260421T171915
CREATED:20260129T103651Z
LAST-MODIFIED:20260210T153930Z
UID:10000028-1778965200-1779224400@www.momix.com
SUMMARY:BOTANICA S2 - Florence\, Italy
DESCRIPTION:BOTANICA – Season 2: Attraverso il suo inconfondibile linguaggio visuale e coreografico\, Momix ci trascina in un’immersione sensoriale e seducente che ci farà sentire minuscoli di fronte al vibrare delle vespe\, alla sensualità delle calendule\, all’imponenza dei rami protesi verso il cielo e all’energia vitale del sole. Lo spettacolo si arricchisce di inediti effetti tecnologici e immagini tridimensionali rendendolo un’esperienza totale che restituisce al pubblico l’armonia e la perfezione del ciclo vitale\, instillando la consapevolezza che la custodia della bellezza e della meraviglia del nostro pianeta sia un compito che ci appartiene. \n\n\n\n \n\n\n\n Date e orari \n\n\n\nsabato 16 Maggio21:00 \n\n\n\ndomenica 17 Maggio16:45 \n\n\n\nlunedì 18 Maggio21:00 \n\n\n\nmartedì 19 Maggio21:00 \n\n\n\n\n\n\n\n Disponibilità e biglietti \n\n\n\nI settore € 50.00 \n\n\n\nII settore € 42.00 \n\n\n\nIII settore € 37.00 \n\n\n\nIV settore € 32.00 \n\n\n\nV settore € 25.00
URL:https://www.momix.com/event/botanica-s2-florence-italy/
LOCATION:Teatro Verdi\, Via Ghibellina\, 99\, Firenze\, FI\, 50122\, Italy
CATEGORIES:EUROPE,ITALY
END:VEVENT
END:VCALENDAR